BEGIN:VCALENDAR

VERSION:2.0

PRODID:-//hacksw/handcal//NONSGML v1.0//EN

BEGIN:VEVENT

UID:e4db23b5093031ae46d553d1da6a64ab

DTSTAMP:20260420T150624Z

DTSTART:20260516T120000

DTEND:20260516T123000

SUMMARY:L40372291 - 6 Daley Road, YAGOONA NSW 2199

LOCATION:6 Daley Road, YAGOONA NSW 2199

END:VEVENT

END:VCALENDAR