BEGIN:VCALENDAR

VERSION:2.0

PRODID:-//hacksw/handcal//NONSGML v1.0//EN

BEGIN:VEVENT

UID:1ea3ee540d91e1322cfed53cdb55485c

DTSTAMP:20260420T151058Z

DTSTART:20260513T120000

DTEND:20260513T123000

SUMMARY:L40372291 - 6 Daley Road, YAGOONA NSW 2199

LOCATION:6 Daley Road, YAGOONA NSW 2199

END:VEVENT

END:VCALENDAR