BEGIN:VCALENDAR

VERSION:2.0

PRODID:-//hacksw/handcal//NONSGML v1.0//EN

BEGIN:VEVENT

UID:9c98b9c443ba9c8a93c7f450f6402cba

DTSTAMP:20260420T150733Z

DTSTART:20260506T120000

DTEND:20260506T123000

SUMMARY:L40372291 - 6 Daley Road, YAGOONA NSW 2199

LOCATION:6 Daley Road, YAGOONA NSW 2199

END:VEVENT

END:VCALENDAR