BEGIN:VCALENDAR

VERSION:2.0

PRODID:-//hacksw/handcal//NONSGML v1.0//EN

BEGIN:VEVENT

UID:45a34bcbd54f60faf25a87df328735e2

DTSTAMP:20260422T191405Z

DTSTART:20260502T130000

DTEND:20260502T133000

SUMMARY:L40373450 - 7/1 Quarry Close, YAGOONA NSW 2199

LOCATION:7/1 Quarry Close, YAGOONA NSW 2199

END:VEVENT

END:VCALENDAR