BEGIN:VCALENDAR

VERSION:2.0

PRODID:-//hacksw/handcal//NONSGML v1.0//EN

BEGIN:VEVENT

UID:9e5a0852fa7ae7ed373e8f63d93311d8

DTSTAMP:20260420T150928Z

DTSTART:20260502T120000

DTEND:20260502T123000

SUMMARY:L40372291 - 6 Daley Road, YAGOONA NSW 2199

LOCATION:6 Daley Road, YAGOONA NSW 2199

END:VEVENT

END:VCALENDAR