BEGIN:VCALENDAR

VERSION:2.0

PRODID:-//hacksw/handcal//NONSGML v1.0//EN

BEGIN:VEVENT

UID:d556f2b35d356b6da94935b0df24824f

DTSTAMP:20260420T150538Z

DTSTART:20260429T120000

DTEND:20260429T123000

SUMMARY:L40372291 - 6 Daley Road, YAGOONA NSW 2199

LOCATION:6 Daley Road, YAGOONA NSW 2199

END:VEVENT

END:VCALENDAR