BEGIN:VCALENDAR

VERSION:2.0

PRODID:-//hacksw/handcal//NONSGML v1.0//EN

BEGIN:VEVENT

UID:5fdd8b5973bf9f67cce858c2567728d0

DTSTAMP:20260422T191437Z

DTSTART:20260425T130000

DTEND:20260425T133000

SUMMARY:L40373450 - 7/1 Quarry Close, YAGOONA NSW 2199

LOCATION:7/1 Quarry Close, YAGOONA NSW 2199

END:VEVENT

END:VCALENDAR